BEGIN:VCALENDAR
VERSION:2.0
PRODID:-//Groeituin013 - ECPv6.15.20//NONSGML v1.0//EN
CALSCALE:GREGORIAN
METHOD:PUBLISH
X-ORIGINAL-URL:https://www.groeituin013.nl
X-WR-CALDESC:Evenementen voor Groeituin013
REFRESH-INTERVAL;VALUE=DURATION:PT1H
X-Robots-Tag:noindex
X-PUBLISHED-TTL:PT1H
BEGIN:VTIMEZONE
TZID:UTC
BEGIN:STANDARD
TZOFFSETFROM:+0000
TZOFFSETTO:+0000
TZNAME:UTC
DTSTART:20200101T000000
END:STANDARD
END:VTIMEZONE
BEGIN:VEVENT
DTSTART;TZID=UTC:20221028T120000
DTEND;TZID=UTC:20221028T163000
DTSTAMP:20260425T203543
CREATED:20221013T123928Z
LAST-MODIFIED:20221013T123928Z
UID:2266-1666958400-1666974600@www.groeituin013.nl
SUMMARY:Pompoenfeest voor de kids!
DESCRIPTION:Het is weer zover\, ons jaarlijkse pompoenfeest komt er aan! Dit jaar vieren we het op vrijdag 28 oktober. Dan kun je je eigen pompoen uithollen of versieren. Kom jij ook?  Voor iedereen is er pompoensoep\, pompoencupcakes en voor alle kinderen is er ranja en iets lekker! Vind je het leuk om verkleed te komen\, trek dan je leukste\, grappigste of spannenste Halloweenkostuum aan. \nJe kunt je inschrijven voor: \n\ngroep 1: van 12.00u tot 14.00u\ngroep 2: van 14.30u tot 16.30u\n\nPer groep kunnen max. 20 kinderen (met ouders) deelnemen. Schrijf je snel in voor een van de twee groepen via info@groeituin013.nl. Kosten 3\,- per kind. We zien je op 28 oktober!
URL:https://www.groeituin013.nl/activiteit/pompoenfeest-voor-de-kids-2/
LOCATION:GroeiTuin013\, Reeshofdijk 30\, Tilburg\, Noord-Brabant\, 5044 VB
ATTACH;FMTTYPE=image/jpeg:https://www.groeituin013.nl/wp-content/uploads/2021/12/Pompoenfeest-8-1.jpg
ORGANIZER;CN="Groeituin013":MAILTO:info@groeituin013.nl
END:VEVENT
BEGIN:VEVENT
DTSTART;TZID=UTC:20220815T130000
DTEND;TZID=UTC:20220815T160000
DTSTAMP:20260425T203543
CREATED:20220815T070101Z
LAST-MODIFIED:20220815T070101Z
UID:2238-1660568400-1660579200@www.groeituin013.nl
SUMMARY:Workshop kruidenzalf maken
DESCRIPTION:Op donderdag 18 augustus organiseert onze kruidendeskundige Ellen van Geel van Goed in Gezondheid een workshop kruidenzalf maken voor geïnteresseerden op de Groeituin! De kruiden waarmee je aan de slag gaat zijn afkomstig van GroeiTuin013. De workshop is inclusief koffie/thee/fris en het zalfje wat je hebt gemaakt mag je uiteraard mee naar huis nemen! Als er nog tijd over is zal er afgesloten worden met een kruidenwandeling door onze tuin.\n\nWil je graag deelnemen? Stuur dan een mail met naam en telefoonnummer naar info@groeituin.nl of geef je op in ons winkeltje en zet jezelf en telefoonnummer op de inschrijflijst. Er kunnen maximaal 8 mensen deelnemen. Bij veel gegadigden zal er nog een extra datum ingepland worden.\n\nDe zalfjes en lippenbalsem van Ellen zijn sinds kort ook te koop in ons winkeltje!\n\n\nMeer weten over Ellen en wat zij allemaal doet\, neem dan een kijkje op www.goedingezondheid.nl
URL:https://www.groeituin013.nl/activiteit/workshop-kruidenzalf-maken/
LOCATION:GroeiTuin013\, Reeshofdijk 30\, Tilburg\, Noord-Brabant\, 5044 VB
ATTACH;FMTTYPE=image/jpeg:https://www.groeituin013.nl/wp-content/uploads/2022/08/ellen-van-geel.jpg
ORGANIZER;CN="Groeituin013":MAILTO:info@groeituin013.nl
END:VEVENT
BEGIN:VEVENT
DTSTART;TZID=UTC:20220714T170000
DTEND;TZID=UTC:20220714T210000
DTSTAMP:20260425T203543
CREATED:20220519T102354Z
LAST-MODIFIED:20220519T102354Z
UID:2140-1657818000-1657832400@www.groeituin013.nl
SUMMARY:ZomerSmaak 2022
DESCRIPTION:Genieten van 013 Food proeverijen bij GroeiTuin013\nGroeiTuin013 organiseert deze zomer weer een smaakvolle zomerse lokale streek proeverij/-markt\, genaamd ‘ZomerSmaak’. Op donderdag 14 juli kunnen liefhebbers van 17.00u tot 21.00u op de nieuwe locatie aan de Stadsakker lekker en lokaal voedsel kopen bij zo’n 20 kramen van streekboeren/-producenten uit de buurt én aanschuiven aan lange tafels om op ons sfeervolle marktplein de verse aankopen te nuttigen. Proeven en smullen van o.a. ambachtelijke kaas\, wijn\, bier\, brood\, pizza\, biologische groenten\, ijs\, koek\, vlees\, plukfruit\, heerlijke (vegetarische) maaltijden of hapjes en verse soep. \nWij willen met deze avondproeverijen GroeiTuin013\, 013Food en lokale boeren/producenten meer bekendheid geven en meer streekproducenten aan onze organisatie verbinden. En tevens de stadsbewoners direct in contact brengen met lokale boeren/producenten en hun producten. Vers en dichtbij is goed en gezond\, en zeker ook lekker én gezellig. \nGenieten van sfeervolle akoestische live muziek\nNaast gezond en lekker eten kunt u tijdens ZomerSmaak ook genieten van de melodische theaterpop van de Utrechtse act Van Piekeren. De Melancholische teksten met een humoristische ondertoon met de rauwe\, doorleefde stem van Jan van Piekeren vormen samen met de gitaarpartijen van Johan Fransen een uniek geheel. Van Piekeren was eerder te zien op de Parade\, Oerol\, in diverse TV-programma’s en nu dus bij ZomerSmaak! \nDeelnemers ZomerSmaak\nBioboerderij ’t Schop\, Kerkhovense Molen\, Brouwerij ’t MAG\, ZuiderZwam\, GroeiGoed013\, Brouwerij de Blauwe Ketel\, Crêperie Natuurlijk\, Te Pizza\, Wijngaard Dassemus\, Vergeten Fruit\, Broodje Aap & Linke Soep\, Wens Natuurlijk\, Green Bag Lady\, Remake Textiles\, Herenboeren Goedentijd\, Imkers Milouschka en Paul\, Isa Zijlstra met kruidenboter\, Frauke Hoogerwaard met limonadesiroop en Stedenband Tilburg-Matagalpa. GroeiTuin013 is zelf ook aanwezig met hapjes en drankjes. \nOver 013Food\nVoeding geven aan duurzaam leven. Onder die noemer draagt 013Food bij aan de verduurzaming van de productie en consumptie van voedsel in Midden Brabant. Dat doet 013Food door het initiëren en stimuleren van lokale\, impactvolle foodprojecten. De foodprojecten die 013Food ondersteunt richten zich op duurzame productie\, het vergroten van bewustzijn met betrekking tot de waarde van voedsel en het voorkomen van voedselverspilling. Tot de partners van 013Food behoren uiteenlopende food-initiatieven\, bedrijven\, boeren\, restaurants\, de gemeente\, onderwijsinstellingen\, de bibliotheek\, stichtingen en andere partijen. Kijk voor meer informatie op http://www.013food.nl/ \nDe ZomerSmaakeditie van 2022 worden mede mogelijk gemaakt door Het Werkt en GroeiTuin013.
URL:https://www.groeituin013.nl/activiteit/zomersmaak-3/
LOCATION:GroeiTuin013\, Reeshofdijk 30\, Tilburg\, Noord-Brabant\, 5044 VB
ATTACH;FMTTYPE=image/jpeg:https://www.groeituin013.nl/wp-content/uploads/2021/06/ZO175F1.jpg
ORGANIZER;CN="Groeituin013":MAILTO:info@groeituin013.nl
END:VEVENT
BEGIN:VEVENT
DTSTART;TZID=UTC:20220522T100000
DTEND;TZID=UTC:20220522T160000
DTSTAMP:20260425T203543
CREATED:20220518T093737Z
LAST-MODIFIED:20220518T093737Z
UID:2130-1653213600-1653235200@www.groeituin013.nl
SUMMARY:ZONdag in Stadsbos013
DESCRIPTION:22 Mei is het Stadsbosdag in Stadsbos013! Op diverse plekken in het Stadsbos zijn er allerlei activiteiten te beleven tijdens ZONdag\, de eerste editie van de Stadsbosdag. \nOp deze dag opent GroeiTuin013 het nieuwe seizoen. Onze tuin is die dag geopend van 10.00u tot 16.00u en je bent van harte welkom voor een kopje koffie of thee met wat lekkers. Aan geïnteresseerde bezoekers worden rondleidingen gegeven door onze tuinman en vrijwilligers. \nOok kun je vanaf zondag 22 mei weer terecht in onze winkel. Gaandeweg het seizoen zal ons aanbod steeds diverser worden. Daarnaast breiden we het assortiment uit met biologisch vlees van Biologische boerderij ’t Schop ingemaakte jam en chutneys van Wens Natuurlijk en de oesterzwambitterballen van ZuiderZwam. \nOok zijn er nog biologische groenteplantjes te koop zoals (punt)paprika\, cherry- en trostomaat\, aubergine\, krulsla\, ijsbergsla\, groene kropsla\, andijvie\, bloemkool\, spruitkool\, savooikool en knolselderij. Zolang de voorraad strekt! \nPetje af\nIn samenwerking met Serve the City Tilburg\norganiseert Petje af op de Stadsbosdag een speciale gastles op de tuin. Nieuwsgierige kinderen van 10 t/m 14 jaar duiken deze zondag in de groene wereld van de GroeiTuin en ontdekken zo hun eigen talenten.\nBij Petje af komen kinderen die een extra steuntje in de rug kunnen gebruiken en daartoe kennis maken met inspirerende rolmodellen en diverse werkvelden. Meer weten over het programma van Petje af ? Kijk op www.petjeaf.nl \nInformatie over alle activiteiten tijdens de Stadsbosdag vindt u op www.stadsbos013.nl.
URL:https://www.groeituin013.nl/activiteit/zondag-in-stadsbos013-22-mei-2022/
LOCATION:GroeiTuin013\, Reeshofdijk 30\, Tilburg\, Noord-Brabant\, 5044 VB
ATTACH;FMTTYPE=image/jpeg:https://www.groeituin013.nl/wp-content/uploads/2022/05/Stadsbosdag.jpg
ORGANIZER;CN="Groeituin013":MAILTO:info@groeituin013.nl
END:VEVENT
BEGIN:VEVENT
DTSTART;TZID=UTC:20211020T140000
DTEND;TZID=UTC:20211020T160000
DTSTAMP:20260425T203543
CREATED:20210927T102506Z
LAST-MODIFIED:20210927T102506Z
UID:1207-1634738400-1634745600@www.groeituin013.nl
SUMMARY:Pompoenfeest voor de kids!
DESCRIPTION:Het is weer zover\, ons jaarlijkse pompoenfeest komt er aan! Op woensdag 20 oktober van 14.00u tot 16.00u kun je je eigen pompoen uithollen of versieren. Kom jij ook?  Er is plek voor max. 20 kinderen (met ouders). En voor alle kinderen is er iets lekker! Schrijf je snel in via info@groeituin013.nl. Kosten 5\,- per kind. We zien je op 20 oktober!
URL:https://www.groeituin013.nl/activiteit/pompoenfeest-voor-de-kids/
LOCATION:GroeiTuin013\, Reeshofdijk 30\, Tilburg\, Noord-Brabant\, 5044 VB
ATTACH;FMTTYPE=image/jpeg:https://www.groeituin013.nl/wp-content/uploads/2021/09/Pompoenfeest-5-2019-foto-Michael-molenaar.jpg
ORGANIZER;CN="Groeituin013":MAILTO:info@groeituin013.nl
END:VEVENT
BEGIN:VEVENT
DTSTART;TZID=UTC:20210916T180000
DTEND;TZID=UTC:20210916T210000
DTSTAMP:20260425T203543
CREATED:20210616T083917Z
LAST-MODIFIED:20210616T083917Z
UID:669-1631815200-1631826000@www.groeituin013.nl
SUMMARY:ZomerSmaak 2021
DESCRIPTION:Genieten van 013 Food proeverijen bij GroeiTuin013\nGroeiTuin013 organiseert deze zomer weer\, in samenwerking met 013Food\, twee smaakvolle zomerse lokale streek proeverij/-markten\, genaamd ‘ZomerSmaak’. Op donderdag 15 juli en donderdag 16 september kunnen liefhebbers van 18.00u tot 21.00u op de nieuwe locatie aan de Stadsakker lekker en lokaal voedsel kopen bij zo’n 20 kramen van streekboeren/-producenten uit de buurt én aanschuiven aan lange tafels om op ons sfeervolle marktplein de verse aankopen te nuttigen. Proeven en smullen van o.a. ambachtelijke kaas\, wijn\, bier\, brood\, pizza\, biologische groenten\, ijs\, koek\, vlees\, plukfruit\, heerlijke (vegetarische) maaltijden of hapjes en verse soep. \nWij willen met deze avondproeverijen 013Food\, GroeiTuin013 en lokale boeren/producenten meer bekendheid geven en meer streekproducenten aan onze organisatie verbinden. En tevens de stadsbewoners direct in contact brengen met lokale boeren/producenten en hun producten. Vers en dichtbij is goed en gezond\, en zeker ook lekker én gezellig. \nUiteraard nemen wij de richtlijnen van het RIVM in acht door een gezondheidscheck bij de ingang en bezoekers te wijzen op de afstands- en hygiëneregels. \n \nGenieten van sfeervolle akoestische live muziek\nTijdens het shoppen en proeven kunt u genieten van alle lekkernijen\, de mensen die u tegenkomt en van sfeervolle live muziek. Op 15 juli zorgen de dames van de Onze Lieve Vrouwen-kapel voor een vrolijke muzikale noot en op 16 september kunt u genieten van de gezellige muziek van Klezmania; van gipsy\, tango’s tot Franse chansons. \nDeelnemers ZomerSmaak\nBioboerderij ’t Schop\, De Smaak van Hier\, Kerkhovense Molen\, Brouwerij ’t MAG\, Zuiderzwam\, GroeiGoed013\, Art of Tea\, Brouwerij de Blauwe Ketel\, Crêperie Natuurlijk\, Te Pizza\, Wijngaard Dassemus\, Vergeten Fruit\, Foodatelier\, Broodje Aap & Linke Soep\, Wens Natuurlijk\, 013Food\, Green Bag Lady en natuurlijk GroeiTuin013. \nOver 013Food\nVoeding geven aan duurzaam leven. Onder die noemer draagt 013Food bij aan de verduurzaming van de productie en consumptie van voedsel in Midden Brabant. Dat doet 013Food door het initiëren en stimuleren van lokale\, impactvolle foodprojecten. De foodprojecten die 013Food ondersteunt richten zich op duurzame productie\, het vergroten van bewustzijn met betrekking tot de waarde van voedsel en het voorkomen van voedselverspilling. Tot de partners van 013Food behoren uiteenlopende food-initiatieven\, bedrijven\, boeren\, restaurants\, de gemeente\, onderwijsinstellingen\, de bibliotheek\, stichtingen en andere partijen. Kijk voor meer informatie op http://www.013food.nl/ \nDe ZomerSmaakedities van 2021 worden mede mogelijk gemaakt door Het Werkt\, 013Food\, Boekenschop en GroeiTuin013.
URL:https://www.groeituin013.nl/activiteit/zomersmaak-2/
LOCATION:ZomerSmaak\, Reeshofdijk 30\, Tilburg\, Noord Brabant\, 5044 VB
ATTACH;FMTTYPE=image/jpeg:https://www.groeituin013.nl/wp-content/uploads/2021/06/ZOMERS4.jpg
ORGANIZER;CN="Groeituin013":MAILTO:info@groeituin013.nl
END:VEVENT
BEGIN:VEVENT
DTSTART;TZID=UTC:20210715T180000
DTEND;TZID=UTC:20210715T210000
DTSTAMP:20260425T203543
CREATED:20210615T173912Z
LAST-MODIFIED:20210615T173912Z
UID:649-1626372000-1626382800@www.groeituin013.nl
SUMMARY:ZomerSmaak 2021
DESCRIPTION:ZomerSmaak 15 juli gecancelled\nHelaas… de slechte weersverwachtingen gooien roet in het eten. Met pijn in ons hart hebben we besloten om de ZomerSmaak editie van 15 juli af te lasten. \n 
URL:https://www.groeituin013.nl/activiteit/zomersmaak/
LOCATION:ZomerSmaak\, Reeshofdijk 30\, Tilburg\, Noord Brabant\, 5044 VB
ATTACH;FMTTYPE=image/jpeg:https://www.groeituin013.nl/wp-content/uploads/2021/06/ZO175F1.jpg
ORGANIZER;CN="Groeituin013":MAILTO:info@groeituin013.nl
END:VEVENT
END:VCALENDAR